BEGIN:VCALENDAR
VERSION:2.0
X-WR-CALNAME:Church of the Good Shepherd\, Churchtown\, Dublin 14
BEGIN:VEVENT
SUMMARY:Divine Mercy Prayer Group
URL;VALUE=URI:http://www.goodshepherdchurchtown.ie/2010/08/divine-mercy-prayer-group-2/
UID:170-http://www.goodshepherdchurchtown.ie/2010/08/divine-mercy-prayer-group-2/
DESCRIPTION:[by: admin]
TRANSP:OPAQUE
DTSTART;VALUE=DATE-TIME:20100929T190000Z
DTEND;VALUE=DATE-TIME:20100929T193000Z
END:VEVENT
BEGIN:VEVENT
SUMMARY:Bridget (Patricia) Harte Weston Park
URL;VALUE=URI:http://www.goodshepherdchurchtown.ie/2012/11/bridget-patricia-harte-weston-park-thursday-1st-november-at-11-30/
UID:604-http://www.goodshepherdchurchtown.ie/2012/11/bridget-patricia-harte-weston-park-thursday-1st-november-at-11-30/
DESCRIPTION:[by: gerard]
TRANSP:OPAQUE
DTSTART;VALUE=DATE-TIME:20121101T113000Z
DTEND;VALUE=DATE-TIME:20121101T113000Z
END:VEVENT
BEGIN:VEVENT
SUMMARY:Patricia O'Rahilly Woodlawn Park
URL;VALUE=URI:http://www.goodshepherdchurchtown.ie/2012/11/patricia-orahilly-woodlawn-park-friday-2nd-10am/
UID:606-http://www.goodshepherdchurchtown.ie/2012/11/patricia-orahilly-woodlawn-park-friday-2nd-10am/
DESCRIPTION:[by: gerard]
TRANSP:OPAQUE
DTSTART;VALUE=DATE-TIME:20121102T100000Z
DTEND;VALUE=DATE-TIME:20121102T100000Z
END:VEVENT
END:VCALENDAR
